<?xml version="1.0" encoding="UTF-8"?>
<!--<!DOCTYPE metadata SYSTEM "http://www.esri.com/metadata/esriprof80.dtd">-->
<metadata xml:lang="en">
	<Esri>
		<CreaDate>20060627</CreaDate>
		<CreaTime>14182300</CreaTime>
		<SyncOnce>FALSE</SyncOnce>
		<SyncDate>20060705</SyncDate>
		<SyncTime>16220400</SyncTime>
		<ModDate>20090505</ModDate>
		<ModTime>12343200</ModTime>
		<MetaID>{C15A818F-CE6C-48D7-BE62-BBE4F8479A36}</MetaID></Esri>
	<idinfo>
		<status>
			<progress>Complete</progress>
			<update>Unknown</update></status>
		<accconst>This is Category I data. Category I data are public domain and available to share with Caltrans partners.</accconst>
		<useconst>This is Category I data. Category I data are public domain and available to share with Caltrans partners.</useconst>
		<ptcontac>
			<cntinfo>
				<cntaddr>
					<addrtype>mailing and physical address</addrtype>
					<address>1120 N St., MS 38</address>
					<city>Sacramento</city>
					<state>CA</state>
					<postal>95814</postal>
					<country>USA</country>
				</cntaddr>
				<cntorgp>
					<cntorg>Caltrans TSI/GIS Data Branch</cntorg>
				</cntorgp>
				<cntvoice>(916) 654-5037</cntvoice>
				<cntfax>(916) 654-6583</cntfax>
			</cntinfo>
		</ptcontac>
		<keywords>
			<theme>
				<themekt>none</themekt>
				<themekey>(DEM) shaded relief</themekey><themekey>(DEM) shade 90 meter resolution</themekey></theme>
			<place>
				<placekey>CA</placekey>
				<placekt>none</placekt>
				<placekey>California</placekey>
			</place>
		</keywords>
		<native Sync="TRUE">Microsoft Windows XP Version 5.1 (Build 2600) Service Pack 2; ESRI ArcCatalog 9.1.0.722</native><descript><langdata Sync="TRUE">en</langdata><abstract>The DEMshade grid is a cartographic component that presents a realistic perspective of the topography of the state of California.</abstract><purpose>This data set is suitable for small-scale mapping, e.g. counties or larger areas. It is a cartographic component that presents a realistic perspective of the topography. It contains values from 1 -&gt; 255 that should be colored with shades of gray (1 is darkest, 255 lightest).</purpose><supplinf>The GRID "DEMSHADE" was generated from the USGS 1 arc-second, 1:24,000-scale seamless Digital Elevation Model (DEM). Prior to generating shaded relief, the DEM was projected to Albers and resampled to 90 meter cell size. Shaded relief was calculated using the following parameters: 
SUN AZIMUTH - 315 degrees 
SUN ALTITUDE - 45 degrees 
Z FACTOR - 0.3048 (number of XY units in each Z unit) </supplinf></descript><citation><citeinfo><origin>Caltrans TSI/GIS Data Branch</origin><pubdate>1999</pubdate><title Sync="TRUE">demsh90</title><ftname Sync="TRUE">demsh90</ftname><geoform Sync="TRUE">raster digital data</geoform><pubtime>Unknown</pubtime><onlink>http://www.dot.ca.gov/hq/tsip/gis/datalibrary/gisdatalibrary.html</onlink></citeinfo></citation><timeperd><current>publication date</current><timeinfo><sngdate><caldate>1999</caldate><time>unknown</time></sngdate></timeinfo></timeperd><spdom><bounding><westbc Sync="TRUE">-124.585245</westbc><eastbc Sync="TRUE">-113.399422</eastbc><northbc Sync="TRUE">42.133979</northbc><southbc Sync="TRUE">32.381791</southbc></bounding><lboundng><leftbc Sync="TRUE">-380209.731443</leftbc><rightbc Sync="TRUE">547780.268557</rightbc><bottombc Sync="TRUE">-608679.841172</bottombc><topbc Sync="TRUE">457280.158828</topbc></lboundng></spdom><natvform Sync="TRUE">Raster Dataset</natvform><crossref><citeinfo><origin>Caltrans TSI/GIS Data Branch</origin><pubdate>1999</pubdate><pubtime>Unknown</pubtime><title>demsh90</title></citeinfo></crossref></idinfo>
	<metainfo>
		<metc>
			<cntinfo>
				<cntorgp>
					<cntorg>Caltrans TSI/GIS Data Branch</cntorg>
					<cntper>Metadata Coordinator</cntper>
				</cntorgp>
				<cntaddr>
					<addrtype>mailing and physical address</addrtype>
					<city>Sacramento</city>
					<state>CA</state>
					<postal>95814</postal>
					<address>1120 N St., MS 38</address>
					<country>USA</country>
				</cntaddr>
				<cntvoice>(916) 654-5037</cntvoice>
				<cntfax>(916) 654-6583</cntfax>
			</cntinfo>
		</metc>
		<langmeta Sync="TRUE">en</langmeta><metstdn Sync="TRUE">FGDC Content Standards for Digital Geospatial Metadata</metstdn><metstdv Sync="TRUE">FGDC-STD-001-1998</metstdv><mettc Sync="TRUE">local time</mettc><metd Sync="TRUE">20090505</metd><metextns><onlink Sync="TRUE">http://www.esri.com/metadata/esriprof80.html</onlink><metprof Sync="TRUE">ESRI Metadata Profile</metprof></metextns></metainfo>
	<distinfo>
		<distrib>
			<cntinfo>
				<cntorgp>
					<cntorg>Caltrans TSI/GIS Data Branch</cntorg>
				</cntorgp>
				<cntaddr>
					<addrtype>mailing and physical address</addrtype>
					<address>1120 N St., MS 38</address>
					<city>Sacramento</city>
					<state>CA</state>
					<postal>95814</postal>
					<country>USA</country>
				</cntaddr>
				<cntvoice>(916) 654-5037</cntvoice>
				<cntfax>(916) 654-6583</cntfax>
			</cntinfo>
		</distrib>
		<distliab>This is Category I data. Category I data are public domain and available to share with Caltrans partners.</distliab>
		<resdesc Sync="TRUE">Downloadable Data</resdesc><stdorder><digform><digtinfo><transize Sync="TRUE">46.272</transize><dssize Sync="TRUE">46.272</dssize></digtinfo></digform></stdorder><availabl><timeinfo><sngdate><caldate>1999</caldate><time>unknown</time></sngdate></timeinfo></availabl></distinfo>
	<dataqual><lineage><procstep><procdesc>Data Structure: Grid Cell-based 
ARC/INFO Feature class Type: Lattice 
Layer Size: 46 MB 
Processing platform: Sun 3000 server </procdesc><date Sync="TRUE">20060626</date><time Sync="TRUE">13081800</time><proccont><cntinfo><cntorgp><cntorg>Caltrans TSI/GIS Data Branch</cntorg></cntorgp><cntaddr><addrtype>mailing and physical address</addrtype><address>1120 N St, MS 38</address><city>Sacramento</city><state>CA</state><postal>95814</postal><country>USA</country></cntaddr><cntvoice>(916) 654 5037</cntvoice><cntfax>(916) 654 6583</cntfax></cntinfo></proccont><procsv>ARC/INFO Rev 7.2.1</procsv><procdate>1999</procdate><srcused>USGS</srcused></procstep><srcinfo><srccite><citeinfo><origin>United States Geological Survey</origin><pubdate>1999</pubdate><pubtime>Unknown</pubtime><title>USGS 1 arc-second Digital Elevation Models</title><othercit>Data Resolution: 90 meters 
Source Ground Unit: Decimal degrees 
Source Z Unit: Meters 
Capture Method: Various 
Source Accuracy: Because elevation postings model a surface and do not represent specific features, horizontal accuracy is difficult to measure and is not stated by the USGS.</othercit></citeinfo></srccite><srcscale>1:250,000 </srcscale><typesrc>Digital file transfer </typesrc><srctime><timeinfo><sngdate><caldate>1999</caldate><time>unknown</time></sngdate></timeinfo><srccurr>publication date</srccurr></srctime><srccontr>Source: USGS 1 arc-second Digital Elevation Models 
Data Resolution: 90 meters 
Source Ground Unit: Decimal degrees 
Source Z Unit: Meters 
Capture Method: Various 
Source Accuracy: Because elevation postings model a surface and do not represent specific features, horizontal accuracy is difficult to measure and is not stated by the USGS. </srccontr><srccitea>USGS</srccitea></srcinfo></lineage><logic>These data are based on 1:24,000-scale source data. Due to resampling, quality should be considered very good for the intended use (small-scale mapping).</logic><complete>This DEM is complete as of 20031106</complete></dataqual><dataIdInfo><envirDesc Sync="TRUE">Microsoft Windows XP Version 5.1 (Build 2600) Service Pack 2; ESRI ArcCatalog 9.1.0.722</envirDesc><dataLang><languageCode Sync="TRUE" value="en"></languageCode></dataLang><idCitation><resTitle Sync="TRUE">demsh90</resTitle><presForm><PresFormCd Sync="TRUE" value="005"></PresFormCd></presForm></idCitation><spatRpType><SpatRepTypCd Sync="TRUE" value="002"></SpatRepTypCd></spatRpType><dataExt><geoEle><GeoBndBox esriExtentType="native"><westBL Sync="TRUE">-380209.731443</westBL><eastBL Sync="TRUE">547780.268557</eastBL><northBL Sync="TRUE">457280.158828</northBL><southBL Sync="TRUE">-608679.841172</southBL><exTypeCode Sync="TRUE">1</exTypeCode></GeoBndBox></geoEle></dataExt><geoBox esriExtentType="decdegrees"><westBL Sync="TRUE">-124.585245</westBL><eastBL Sync="TRUE">-113.399422</eastBL><northBL Sync="TRUE">42.133979</northBL><southBL Sync="TRUE">32.381791</southBL><exTypeCode Sync="TRUE">1</exTypeCode></geoBox></dataIdInfo><mdLang><languageCode Sync="TRUE" value="en"></languageCode></mdLang><mdStanName Sync="TRUE">ISO 19115 Geographic Information - Metadata</mdStanName><mdStanVer Sync="TRUE">DIS_ESRI1.0</mdStanVer><mdChar><CharSetCd Sync="TRUE" value="004"></CharSetCd></mdChar><mdHrLv><ScopeCd Sync="TRUE" value="005"></ScopeCd></mdHrLv><mdHrLvName Sync="TRUE">dataset</mdHrLvName><distInfo><distributor><distorTran><onLineSrc><orDesc Sync="TRUE">002</orDesc><linkage Sync="TRUE">file://\\svhqs02\newgis\data\raster\dem\alb83\demshade\demsh90</linkage><protocol Sync="TRUE">Local Area Network</protocol></onLineSrc><transSize Sync="TRUE">46.272</transSize></distorTran><distorFormat><formatName Sync="TRUE">Raster Dataset</formatName></distorFormat></distributor></distInfo><spdoinfo><direct Sync="TRUE">Raster</direct><rastinfo><rasttype Sync="TRUE">Grid Cell</rasttype><rowcount Sync="TRUE">11844</rowcount><colcount Sync="TRUE">10311</colcount><rastxsz Sync="TRUE">90.000000</rastxsz><rastysz Sync="TRUE">90.000000</rastysz><rastbpp Sync="TRUE">8</rastbpp><vrtcount Sync="TRUE">1</vrtcount><rastorig Sync="TRUE">Upper Left</rastorig><rastcmap Sync="TRUE">FALSE</rastcmap><rastcomp Sync="TRUE">Default</rastcomp><rastband Sync="TRUE">1</rastband><rastdtyp Sync="TRUE">matrix values</rastdtyp><rastplyr Sync="TRUE">FALSE</rastplyr><rastifor Sync="TRUE">ESRI GRID</rastifor></rastinfo></spdoinfo><spref><horizsys><cordsysn><geogcsn Sync="TRUE">GCS_North_American_1983</geogcsn><projcsn Sync="TRUE">NAD_1983_Albers</projcsn></cordsysn><planar><planci><plance Sync="TRUE">row and column</plance><plandu Sync="TRUE">meters</plandu><coordrep><absres Sync="TRUE">90.000000</absres><ordres Sync="TRUE">90.000000</ordres></coordrep></planci><mapproj><mapprojn Sync="TRUE">Albers Conical Equal Area</mapprojn><albers><stdparll Sync="TRUE">34.000000</stdparll><stdparll Sync="TRUE">40.500000</stdparll><longcm Sync="TRUE">-120.000000</longcm><latprjo Sync="TRUE">0.000000</latprjo><feast Sync="TRUE">0.000000</feast><fnorth Sync="TRUE">-4000000.000000</fnorth></albers></mapproj></planar><geodetic><horizdn Sync="TRUE">North American Datum of 1983</horizdn><ellips Sync="TRUE">Geodetic Reference System 80</ellips><semiaxis Sync="TRUE">6378137.000000</semiaxis><denflat Sync="TRUE">298.257222</denflat></geodetic></horizsys></spref><refSysInfo><RefSystem><refSysID><identCode Sync="TRUE">NAD_1983_Albers</identCode></refSysID></RefSystem></refSysInfo><spatRepInfo><GridSpatRep><numDims Sync="TRUE">2</numDims><cellGeo><CellGeoCd Sync="TRUE" value="002"></CellGeoCd></cellGeo><tranParaAv Sync="TRUE">1</tranParaAv><axDimProps><Dimen><dimName><DimNameTypCd Sync="TRUE" value="002"></DimNameTypCd></dimName><dimSize Sync="TRUE">10311</dimSize><dimResol><value Sync="TRUE">90</value><uom><UomLength><uomName Sync="TRUE">Meter</uomName><conversionToISOstandardUnit Sync="TRUE">1 Meter = 1 Meter(s)</conversionToISOstandardUnit></UomLength></uom></dimResol></Dimen><Dimen><dimName><DimNameTypCd Sync="TRUE" value="001"></DimNameTypCd></dimName><dimSize Sync="TRUE">11844</dimSize><dimResol><value Sync="TRUE">90</value><uom><UomLength><uomName Sync="TRUE">Meter</uomName><conversionToISOstandardUnit Sync="TRUE">1 Meter = 1 Meter(s)</conversionToISOstandardUnit></UomLength></uom></dimResol></Dimen></axDimProps></GridSpatRep></spatRepInfo><eainfo><detailed Name="demsh90"><enttyp><enttypl Sync="TRUE">demsh90</enttypl><enttypt Sync="TRUE">Table</enttypt><enttypc Sync="TRUE">254</enttypc><enttypd>The DEMshade grid is a cartographic component that presents a realistic perspective of the topography of the state of California.</enttypd><enttypds>Caltrans TSI/GIS Data Branch</enttypds></enttyp><attr><attrlabl Sync="TRUE">ObjectID</attrlabl><attalias Sync="TRUE">ObjectID</attalias><attrtype Sync="TRUE">OID</attrtype><attwidth Sync="TRUE">4</attwidth><atprecis Sync="TRUE">0</atprecis><attscale Sync="TRUE">0</attscale><attrdef Sync="TRUE">Internal feature number.</attrdef><attrdefs Sync="TRUE">ESRI</attrdefs><attrdomv><udom Sync="TRUE">Sequential unique whole numbers that are automatically generated.</udom></attrdomv></attr><attr><attrlabl Sync="TRUE">Value</attrlabl><attalias Sync="TRUE">Value</attalias><attrtype Sync="TRUE">Integer</attrtype><attwidth Sync="TRUE">0</attwidth><atprecis Sync="TRUE">0</atprecis><attscale Sync="TRUE">0</attscale><attrdef>values from 1 -&gt; 255 that should be colored with shades of gray (1 is darkest, 255 lightest).</attrdef><attrdefs>Caltrans TSI/GIS Data Branch</attrdefs></attr><attr><attrlabl Sync="TRUE">Count</attrlabl><attalias Sync="TRUE">Count</attalias><attrtype Sync="TRUE">Double</attrtype><attwidth Sync="TRUE">0</attwidth><atprecis Sync="TRUE">0</atprecis><attscale Sync="TRUE">0</attscale><attrdef>The number of pixels that are in the dem shade with the given pixel value</attrdef><attrdefs>Caltrans TSI/GIS Data Branch</attrdefs></attr><attr><attrlabl Sync="TRUE">Value</attrlabl><attalias Sync="TRUE">Value</attalias><attrtype Sync="TRUE">Integer</attrtype><attwidth Sync="TRUE">0</attwidth><atprecis Sync="TRUE">0</atprecis><attscale Sync="TRUE">0</attscale><attrdef>values from 1 -&gt; 255 that should be colored with shades of gray (1 is darkest, 255 lightest).</attrdef><attrdefs>Caltrans TSI/GIS Data Branch</attrdefs></attr><attr><attrlabl Sync="TRUE">Count</attrlabl><attalias Sync="TRUE">Count</attalias><attrtype Sync="TRUE">Double</attrtype><attwidth Sync="TRUE">0</attwidth><atprecis Sync="TRUE">0</atprecis><attscale Sync="TRUE">0</attscale><attrdef>The number of pixels that are in the dem shade with the given pixel value</attrdef><attrdefs>Caltrans TSI/GIS Data Branch</attrdefs></attr></detailed><overview/></eainfo><mdDateSt Sync="TRUE">20090505</mdDateSt></metadata>
