<?xml version="1.0" encoding="UTF-8"?>
<!--<!DOCTYPE metadata SYSTEM "http://www.esri.com/metadata/esriprof80.dtd">-->
<metadata xml:lang="en">
	<Esri>
		<CreaDate>20060629</CreaDate>
		<CreaTime>15125400</CreaTime>
		<SyncOnce>FALSE</SyncOnce>
		<SyncDate>20060705</SyncDate>
		<SyncTime>10410500</SyncTime>
		<ModDate>20090505</ModDate>
		<ModTime>12342200</ModTime>
		<MetaID>{E5182F5E-63EF-4259-926B-4D4950ABAEDD}</MetaID></Esri>
	<idinfo>
		<status>
			<progress>Complete</progress>
			<update>None planned</update></status>
		<accconst>This is Category I data. Category I data are public domain and available to share with Caltrans partners.</accconst>
		<useconst>This is Category I data. Category I data are public domain and available to share with Caltrans partners.</useconst>
		<ptcontac>
			<cntinfo>
				<cntaddr>
					<addrtype>mailing and physical address</addrtype>
					<address>1120 N St., MS 38</address>
					<city>Sacramento</city>
					<state>CA</state>
					<postal>95814</postal>
					<country>USA</country>
				</cntaddr>
				<cntorgp>
					<cntorg>Caltrans TSI/GIS Data Branch</cntorg>
				</cntorgp>
				<cntvoice>(916) 654-5037</cntvoice>
				<cntfax>(916) 654-6583</cntfax>
			</cntinfo>
		</ptcontac>
		<keywords>
			<theme>
				<themekt>none</themekt>
				<themekey>DEM</themekey><themekey>Digital Elevation Model</themekey><themekey>USGS</themekey><themekey>lattice</themekey></theme>
			<place>
				<placekey>CA</placekey>
				<placekt>none</placekt>
				<placekey>California</placekey>
			</place>
		</keywords>
		<native Sync="TRUE">Microsoft Windows XP Version 5.1 (Build 2600) Service Pack 2; ESRI ArcCatalog 9.1.0.722</native><descript><langdata Sync="TRUE">en</langdata><abstract>The DEMs cover the entire state of California, plus neighboring portions of Oregon, Nevada, and Arizona.

The DEMs are stored as Arc/Info GRIDs that cover 1 degree of latitude and longitude. The GRIDs overlap the degree boundaries to the extent required to make a rectangle in the Albers projection. This means that adjacent GRIDs overlap, however the data values are identical in the overlap areas. Thus, when merging adjacent DEMs, it makes no difference which DEM takes preference, and no averaging is required.</abstract><purpose>The purpose of the DEM24k raster dataset was to provide 1:24000 DEM imagery by 1 degree block for the state of California</purpose><supplinf>Also available is a single statewide seamless DEM clipped to the 1:100,000 scale state boundary. Areas outside the state or coastline have been set to NO DATA.

LATTICE NAME: d&lt;xxxxx&gt;
LATTICE AREA: 1 x 1 degree block tiles

Lattice names begin with a "d" and are based on the latitude and longitude of the southeast corner of the degree block. For example, the southeast corner of lattice "d36121" is located at latitude 36 00 00, longitude -121 00 00. The table below shows the 1x1 degree blocks necessary for displaying the Caltrans District extents:</supplinf></descript><citation><citeinfo><origin>United States Geological Survey</origin><pubdate>20000101</pubdate><title>dem24k</title><ftname Sync="TRUE">d32114</ftname><geoform Sync="TRUE">raster digital data</geoform><onlink>http://www.dot.ca.gov/hq/tsip/gis/datalibrary/gisdatalibrary.html</onlink></citeinfo></citation><timeperd><current>publication date</current><timeinfo><sngdate><caldate>20000101</caldate></sngdate></timeinfo></timeperd><spdom><bounding><westbc Sync="TRUE">-115.062467</westbc><eastbc Sync="TRUE">-113.926134</eastbc><northbc Sync="TRUE">33.048971</northbc><southbc Sync="TRUE">31.950483</southbc></bounding><lboundng><leftbc Sync="TRUE">467464.056447</leftbc><rightbc Sync="TRUE">567874.056447</rightbc><bottombc Sync="TRUE">-655243.027653</bottombc><topbc Sync="TRUE">-539263.027653</topbc></lboundng></spdom><natvform Sync="TRUE">Raster Dataset</natvform><crossref><citeinfo><origin>United States Geological Survey (USGS)</origin><pubdate>Unknown</pubdate><title>Digital Elevation Models, Data Users</title><othercit>This can be ordered from:
Earth Science Information Center
U.S. Geological Survey
507 National Center
Reston, Virginia 22092
(703) 648-6045
Or it is available online at:
http://edcwww.cr.usgs.gov/Webglis/glisbin/guide.pl/glis/hyper/guide/usgs_dem</othercit></citeinfo></crossref></idinfo>
	<metainfo>
		<metc>
			<cntinfo>
				<cntorgp>
					<cntorg>Caltrans TSI/GIS Data Branch</cntorg>
					<cntper>Metadata Coordinator</cntper>
				</cntorgp>
				<cntaddr>
					<addrtype>mailing and physical address</addrtype>
					<city>Sacramento</city>
					<state>CA</state>
					<postal>95814</postal>
					<address>1120 N St., MS 38</address>
					<country>USA</country>
				</cntaddr>
				<cntvoice>(916) 654-5037</cntvoice>
				<cntfax>(916) 654-6583</cntfax>
			</cntinfo>
		</metc>
		<langmeta Sync="TRUE">en</langmeta><metstdn Sync="TRUE">FGDC Content Standards for Digital Geospatial Metadata</metstdn><metstdv Sync="TRUE">FGDC-STD-001-1998</metstdv><mettc Sync="TRUE">local time</mettc><metd Sync="TRUE">20090505</metd><metextns><onlink Sync="TRUE">http://www.esri.com/metadata/esriprof80.html</onlink><metprof Sync="TRUE">ESRI Metadata Profile</metprof></metextns></metainfo>
	<distinfo>
		<distrib>
			<cntinfo>
				<cntorgp>
					<cntorg>Caltrans TSI/GIS Data Branch</cntorg>
				</cntorgp>
				<cntaddr>
					<addrtype>mailing and physical address</addrtype>
					<address>1120 N St., MS 38</address>
					<city>Sacramento</city>
					<state>CA</state>
					<postal>95814</postal>
					<country>USA</country>
				</cntaddr>
				<cntvoice>(916) 654-5037</cntvoice>
				<cntfax>(916) 654-6583</cntfax>
			</cntinfo>
		</distrib>
		<distliab>This is Category I data. Category I data are public domain and available to share with Caltrans partners.</distliab>
		<resdesc Sync="TRUE">Downloadable Data</resdesc><stdorder><digform><digtinfo><transize Sync="TRUE">7.546</transize><dssize Sync="TRUE">7.546</dssize></digtinfo></digform></stdorder></distinfo>
	<dataqual><lineage><srcinfo><srccite><citeinfo><origin>United States Geological Survey</origin><pubdate>2000</pubdate><title>USGS National Elevation Database</title></citeinfo></srccite><typesrc>Database</typesrc><srctime><timeinfo><sngdate><caldate>2000</caldate></sngdate></timeinfo><srccurr>publication date</srccurr></srctime><srccitea>USGS</srccitea><srccontr>USGS National Elevation Database provided a mosaic of elevation data that the DEM's were extracted.</srccontr></srcinfo><srcinfo><srccite><citeinfo><origin>United States Geological Survey </origin><pubdate>2000</pubdate><title>Digital Elevation Model (DEM)</title><othercit>Extracted DEMs from the USGS National Elevation Database.</othercit></citeinfo></srccite><srcscale>24000</srcscale><typesrc>CD-ROM</typesrc><srctime><timeinfo><sngdate><caldate>2000</caldate></sngdate></timeinfo><srccurr>publication date</srccurr></srctime><srccitea>DEM</srccitea><srccontr>These are the extracted DEMs from the USGS National Elevation Database</srccontr></srcinfo><procstep><srcused>DEM</srcused><procdesc>The DEMs were extracted from the USGS National Elevation Database, described by USGS as "a seamless mosaic of best-available elevation data. The 7.5-minute elevation data for the conterminous United States are the primary initial source data. In addition to the availability of complete 7.5-minute data, efficient processing methods were developed to filter production artifacts in the existing data, convert to the NAD83 datum, edge-match, and fill slivers of missing data at quadrangle seams. One of the effects of the NED processing steps is a much-improved base of elevation data for calculating slope and hydrologic derivatives.".

The DEMs were received as 7 Arc/Info GRIDs that seamlessly mosaic (because they were extracted from a seamless GRID) with horizontal coordinates in decimal degrees and vertical units in floating point meters.

The following processes were applied to the seven DEMs:

1. Converted to integer centimeters (in order to preserve vertical resolution but reduce storage requirements).
2. Mosaicked into a single statewide DEM.
3. Projected to Albers equal area (horizontal units are meters, cell size 30 meters) using a bilinear resampling method.
4. Vertical units were converted to integer feet.

Zunits:

The final DEMs were stored with elevation values as integer feet in order to reduce storage requirements (integers require much less storage than floating point values), yet preserve some precision (feet are smaller units of measurement than meters).</procdesc><procsv>ARC/INFO Rev 7.2.1, Sun Sparc 3000 workstation</procsv><procdate>2000</procdate><proccont><cntinfo><cntperp/></cntinfo></proccont></procstep></lineage><logic>These DEMs are a superior product to the 30 meter DEMs traditionally available from USGS. These have been processed to remove production artifacts, edgematched, and any interquad gaps filled in. These have been generated from the best available DEMs, though the horizontal resolution of any 10meter DEMs has been lost by resampling to 1 arc-second. These are better than the standard DEM product for calculating hydrologic deriviatives, but cannot be considered a hydrologically correct DEM.
</logic><complete>The DEMs cover the entire state of California, plus neighboring portions of Oregon, Nevada, and Arizona.

The DEMs are stored as Arc/Info GRIDs that cover 1 degree of latitude and longitude. The GRIDs overlap the degree boundaries to the extent required to make a rectangle in the Albers projection. This means that adjacent GRIDs overlap, however the data values are identical in the overlap areas. Thus, when merging adjacent DEMs, it makes no difference which DEM takes preference, and no averaging is required.

Also available is a single statewide seamless DEM clipped to the 1:100,000 scale state boundary. Areas outside the state or coastline have ben set to NO DATA.</complete></dataqual><dataIdInfo><envirDesc Sync="TRUE">Microsoft Windows XP Version 5.1 (Build 2600) Service Pack 2; ESRI ArcCatalog 9.1.0.722</envirDesc><dataLang><languageCode Sync="TRUE" value="en"></languageCode></dataLang><idCitation><resTitle Sync="TRUE">d32114</resTitle><presForm><PresFormCd Sync="TRUE" value="005"></PresFormCd></presForm></idCitation><spatRpType><SpatRepTypCd Sync="TRUE" value="002"></SpatRepTypCd></spatRpType><dataExt><geoEle><GeoBndBox esriExtentType="native"><westBL Sync="TRUE">467464.056447</westBL><eastBL Sync="TRUE">567874.056447</eastBL><northBL Sync="TRUE">-539263.027653</northBL><southBL Sync="TRUE">-655243.027653</southBL><exTypeCode Sync="TRUE">1</exTypeCode></GeoBndBox></geoEle></dataExt><geoBox esriExtentType="decdegrees"><westBL Sync="TRUE">-115.062467</westBL><eastBL Sync="TRUE">-113.926134</eastBL><northBL Sync="TRUE">33.048971</northBL><southBL Sync="TRUE">31.950483</southBL><exTypeCode Sync="TRUE">1</exTypeCode></geoBox></dataIdInfo><mdLang><languageCode Sync="TRUE" value="en"></languageCode></mdLang><mdStanName Sync="TRUE">ISO 19115 Geographic Information - Metadata</mdStanName><mdStanVer Sync="TRUE">DIS_ESRI1.0</mdStanVer><mdChar><CharSetCd Sync="TRUE" value="004"></CharSetCd></mdChar><mdHrLv><ScopeCd Sync="TRUE" value="005"></ScopeCd></mdHrLv><mdHrLvName Sync="TRUE">dataset</mdHrLvName><distInfo><distributor><distorTran><onLineSrc><orDesc Sync="TRUE">002</orDesc><linkage Sync="TRUE">file://\\SVHQDIVDATA3\VOL1\Highways\GIS\DataBranch\metadata\Shapefiles_Not_QC\dem24k\d32114</linkage><protocol Sync="TRUE">Local Area Network</protocol></onLineSrc><transSize Sync="TRUE">7.546</transSize></distorTran><distorFormat><formatName Sync="TRUE">Raster Dataset</formatName></distorFormat></distributor></distInfo><spdoinfo><direct Sync="TRUE">Raster</direct><rastinfo><rasttype Sync="TRUE">Grid Cell</rasttype><rowcount Sync="TRUE">3866</rowcount><colcount Sync="TRUE">3347</colcount><rastxsz Sync="TRUE">30.000000</rastxsz><rastysz Sync="TRUE">30.000000</rastysz><rastbpp Sync="TRUE">16</rastbpp><vrtcount Sync="TRUE">1</vrtcount><rastorig Sync="TRUE">Upper Left</rastorig><rastcmap Sync="TRUE">FALSE</rastcmap><rastcomp Sync="TRUE">Default</rastcomp><rastband Sync="TRUE">1</rastband><rastdtyp Sync="TRUE">matrix values</rastdtyp><rastplyr Sync="TRUE">FALSE</rastplyr><rastifor Sync="TRUE">ESRI GRID</rastifor></rastinfo></spdoinfo><spref><horizsys><cordsysn><geogcsn Sync="TRUE">GCS_North_American_1983</geogcsn><projcsn Sync="TRUE">NAD_1983_Albers</projcsn></cordsysn><planar><planci><plance Sync="TRUE">row and column</plance><plandu Sync="TRUE">meters</plandu><coordrep><absres Sync="TRUE">30.000000</absres><ordres Sync="TRUE">30.000000</ordres></coordrep></planci><mapproj><mapprojn Sync="TRUE">Albers Conical Equal Area</mapprojn><albers><stdparll Sync="TRUE">34.000000</stdparll><stdparll Sync="TRUE">40.500000</stdparll><longcm Sync="TRUE">-120.000000</longcm><latprjo Sync="TRUE">0.000000</latprjo><feast Sync="TRUE">0.000000</feast><fnorth Sync="TRUE">-4000000.000000</fnorth></albers></mapproj></planar><geodetic><horizdn Sync="TRUE">North American Datum of 1983</horizdn><ellips Sync="TRUE">Geodetic Reference System 80</ellips><semiaxis Sync="TRUE">6378137.000000</semiaxis><denflat Sync="TRUE">298.257222</denflat></geodetic></horizsys></spref><refSysInfo><RefSystem><refSysID><identCode Sync="TRUE">NAD_1983_Albers</identCode></refSysID></RefSystem></refSysInfo><spatRepInfo><GridSpatRep><numDims Sync="TRUE">2</numDims><cellGeo><CellGeoCd Sync="TRUE" value="002"></CellGeoCd></cellGeo><tranParaAv Sync="TRUE">1</tranParaAv><axDimProps><Dimen><dimName><DimNameTypCd Sync="TRUE" value="002"></DimNameTypCd></dimName><dimSize Sync="TRUE">3347</dimSize><dimResol><value Sync="TRUE">30</value><uom><UomLength><uomName Sync="TRUE">Meter</uomName><conversionToISOstandardUnit Sync="TRUE">1 Meter = 1 Meter(s)</conversionToISOstandardUnit></UomLength></uom></dimResol></Dimen><Dimen><dimName><DimNameTypCd Sync="TRUE" value="001"></DimNameTypCd></dimName><dimSize Sync="TRUE">3866</dimSize><dimResol><value Sync="TRUE">30</value><uom><UomLength><uomName Sync="TRUE">Meter</uomName><conversionToISOstandardUnit Sync="TRUE">1 Meter = 1 Meter(s)</conversionToISOstandardUnit></UomLength></uom></dimResol></Dimen></axDimProps></GridSpatRep></spatRepInfo><eainfo><detailed Name="d32114"><enttyp><enttypl Sync="TRUE">d32114</enttypl><enttypt Sync="TRUE">Table</enttypt><enttypc Sync="TRUE">2930</enttypc><enttypd>The DEM24k provides degree block 1:24000 raster DEM data for the state of California</enttypd><enttypds>Caltrans TSI/GIS Data Branch</enttypds></enttyp><attr><attrlabl Sync="TRUE">ObjectID</attrlabl><attalias Sync="TRUE">ObjectID</attalias><attrtype Sync="TRUE">OID</attrtype><attwidth Sync="TRUE">4</attwidth><atprecis Sync="TRUE">0</atprecis><attscale Sync="TRUE">0</attscale><attrdef Sync="TRUE">Internal feature number.</attrdef><attrdefs Sync="TRUE">ESRI</attrdefs><attrdomv><udom Sync="TRUE">Sequential unique whole numbers that are automatically generated.</udom></attrdomv></attr><attr><attrlabl Sync="TRUE">Value</attrlabl><attalias Sync="TRUE">Value</attalias><attrtype Sync="TRUE">Integer</attrtype><attwidth Sync="TRUE">0</attwidth><atprecis Sync="TRUE">0</atprecis><attscale Sync="TRUE">0</attscale><attrdef>USGS DEM Elevation Identifier</attrdef><attrdefs>USGS</attrdefs></attr><attr><attrlabl Sync="TRUE">Count</attrlabl><attalias Sync="TRUE">Count</attalias><attrtype Sync="TRUE">Double</attrtype><attwidth Sync="TRUE">0</attwidth><atprecis Sync="TRUE">0</atprecis><attscale Sync="TRUE">0</attscale><attrdef>Total number of the USGS DEM Elevation Identifier</attrdef><attrdefs>USGS</attrdefs></attr><attr><attrlabl Sync="TRUE">Value</attrlabl><attalias Sync="TRUE">Value</attalias><attrtype Sync="TRUE">Integer</attrtype><attwidth Sync="TRUE">0</attwidth><atprecis Sync="TRUE">0</atprecis><attscale Sync="TRUE">0</attscale><attrdef>USGS DEM Elevation Identifier</attrdef><attrdefs>USGS</attrdefs></attr><attr><attrlabl Sync="TRUE">Count</attrlabl><attalias Sync="TRUE">Count</attalias><attrtype Sync="TRUE">Double</attrtype><attwidth Sync="TRUE">0</attwidth><atprecis Sync="TRUE">0</atprecis><attscale Sync="TRUE">0</attscale><attrdef>Total number of the USGS DEM Elevation Identifier</attrdef><attrdefs>USGS</attrdefs></attr></detailed></eainfo><mdDateSt Sync="TRUE">20090505</mdDateSt></metadata>
